{"text_format":"1","workbook":"xlsx","n_sheets":7,"sheets":["DOCU_DCF","DOCU_Forecast","DOCU_IS","DOCU_BS","DOCU_CFS"," _Comps","Option_Value"],"not_rendered":{"charts":0,"images":1,"macros":1,"external_links":0,"defined_names":21,"comments":3,"pivot_tables":0},"unopened":[],"bounds":{"document_bytes":16777216,"sheet_cells":100000,"rows_first":2000,"rows_last":500,"rows_between":2000,"halvings":0,"cell_chars":16384,"cell_head_chars":4096},"cells_cut":0,"cells_raw":0,"read":"whole","date_system":"1900"}

{"sheet":"DOCU_DCF","index":0,"n_rows":148,"n_cols":21,"rows_kept":148,"cut":false,"hidden":false,"merged":[]}
[]
[null,"Company Name","DocuSign"]
[null,"Ticker","DOCU"]
[null,"Share Price",51.19]
[null,"Valuation Date ","2024-02-14"]
[]
[null,{"$f":"C2&\" (\"&C3&\") DISCOUNTED CASH FLOWS MODEL\"","v":"DocuSign (DOCU) DISCOUNTED CASH FLOWS MODEL"}]
[null,"Fiscal year ends in January USD in thousands except per share data."]
[]
["x","FORECASTING CASH FLOWS"]
[]
[null,null,null,null,null,"Historical",null,null,null,null,"Projected"]
[null,null,null,null,null,2019,{"$f":"F13+1","v":2020},2021,2022,2023,2024,2025,2026,2027,2028,2029,2030]
[null,"Revenue - subscription"]
[null,"Revenue - professional services & other revenue"]
[null,"Total Revenue"]
[null,"Cost of revenue - subscription"]
[null,"Cost of revenue - professional services & other cost of revenue"]
[null,"Gross Profit"]
[]
[null,"Sales & marketing expense"]
[null,"Research & development expense"]
[null,"General & administrative expense"]
[null,"EBIT"]
[null,"Taxes",null,0.25]
[null,"Tax-effected EBIT"]
[]
[null,"Depreciation and amortization"]
[null,"Capex"]
[null,"Change in Net Working Capital"]
[null,"Unlevered free cash flows"]
[]
[]
[null,null,null,null,null,"Historical",null,null,null,null,"Projected"]
[null,null,null,null,null,{"$f":"F13","v":2019},{"$f":"F35+1","v":2020},2021,2022,2023,2024,2025,2026,2027,2028,2029,2030]
[null,"Assumptions"]
[null,"Subscription Growth"]
[null,"Professional Growth"]
[null,"Sales Growth",null,null,null,null,null,null,null,null,null,null,null,null,null,null,null,null,null,2028]
[null,"COGS-subscription (as a % of subscription)",null,null,null,null,null,null,null,null,null,null,null,null,null,null,null,null,"Step"]
[null,"COGS-professional (as a % of professional)",null,null,null,null,null,null,null,null,null,null,null,null,null,null,null,null,"Step"]
[null,"Sales & Marketing (as a % of revenue)",null,null,null,null,null,null,null,null,null,null,null,null,null,null,null,null,"Step"]
[null,"R&D expenses (as % of revenues)",null,null,null,null,null,null,null,null,null,null,null,null,null,null,null,null,"Step"]
[null,"G&A (as a % of revenue)",null,null,null,null,null,null,null,null,null,null,null,null,null,null,null,null,"Step"]
[null,"Capex (as % of revenues)",null,null,null,null,null,null,null,null,null,null,null,null,null,null,null,null,"Step"]
[null,"Depreciation and amortization (as % of capex)",null,null,null,null,null,null,null,null,null,null,null,null,null,null,null,null,"Step"]
[null,"Gross margin"]
[]
["x","TERMINAL VALUE AND EQUITY VALUE PER SHARE"]
[]
[null,null,null,null,null,"Terminal Value - Perpetuity Growth",null,null,null,null,"Terminal Value - Exit Multiple",null,null,null,null,"Option Drag"]
[]
[null,null,null,null,null,"Unlevered FCF in terminal year",null,null,null,null,"Terminal year EBITDA",null,null,null,null,"Implied Equity Value (Using TV)"]
[null,null,null,null,null,"Terminal growth rate",null,null,null,null,"Terminal year EBITDA multiple",null,null,null,null,"Basic Shares"]
[null,null,null,null,null,"Terminal value",null,null,null,null,"Terminal value",null,null,null,null,"Value of Options"]
[null,null,null,null,null,"WACC - current",null,null,null,null,"WACC - current",null,null,null,null,"Implied Equity Value per Share"]
[null,null,null,null,null,"PV of Terminal Value",null,null,null,null,"PV of Terminal Value"]
[null,null,null,null,null,null,null,null,null,null,null,null,null,null,null,"Treasury Outstanding Options"]
[null,null,null,null,null,"PV of Unlevered Free Cash Flows",null,null,null,null,"PV of Unlevered Free Cash Flows",null,null,null,null,"Implied Equity Value"]
[null,null,null,null,null,"Total Enterprise Value",null,null,null,null,"Total Enterprise Value",null,null,null,null,"Diluted Shares Outstanding"]
[null,null,null,null,null,"Net debt + Preferred stock + NCI",null,null,null,null,"Net debt + Preferred stock + NCI",null,null,null,null,"Total Proceeds"]
[null,null,null,null,null,"Implied Equity Value",null,null,null,null,"Implied Equity Value",null,null,null,null,"Implied Equity Value per Share"]
[null,null,null,null,null,"Diluted Shares Outstanding",null,null,null,null,"Diluted Shares Outstanding"]
[null,null,null,null,null,"Implied Equity Value per Share",null,null,null,null,"Implied Equity Value per Share"]
[]
[]
[]
["x","WORKING CAPITAL SCHEDULE"]
[]
[]
[null,null,null,null,null,"Historical",null,null,null,null,"Projected"]
[null,null,null,null,null,{"$f":"F13","v":2019},{"$f":"F72+1","v":2020},2021,2022,2023,2024,2025,2026,2027,2028,{"$f":"O72+1","v":2029},{"$f":"P72+1","v":2030}]
[null,"Total current assets"]
[null,"Cash & cash equivalents"]
[null,"Investments"]
[null,"Total non-cash current assets"]
[]
[null,"Total current liabilities"]
[null,"Convertible senior notes - current"]
[null,"Operating lease liabilities-current"]
[null,"Total non-debt current liabilities"]
[]
[null,"Non-cash Net Working Capital"]
[null,"Change in NWC"]
[]
[]
[null,null,null,null,null,"Historical",null,null,null,null,"Projected"]
[null,null,null,null,null,{"$f":"F72","v":2019},{"$f":"F88+1","v":2020},2021,2022,2023,2024,2025,2026,2027,2028,{"$f":"O88+1","v":2029},{"$f":"P88+1","v":2030}]
[null,"Non-cash NWC as a % of Sale",null,null,null,null,null,null,null,null,null,null,null,null,null,null,null,null,"Step",-0.2,{"$f":"(T89-K89)/(Q88-K88)","v":-3.3333333333333333E-2}]
[]
[]
["x","DILUTED SHARES"]
[]
[]
[null,null,null,null,null,"Treasury with a Twist- All Outstanding Options",null,null,null,null,"Treasury Method- All Outstanding Options"]
[null,null,null,null,null,"Basic share count",null,null,null,null,"Basic share count"]
[null,null,null,null,null,"Outstanding options",null,null,null,null,"Oustanding options"]
[null,null,null,null,null,"Exercise price",null,null,null,null,"Exercise price"]
[null,null,null,null,null,"Current share price",null,null,{"$f":"C4","v":51.19}]
[null,null,null,null,null,"In-the-money options"]
[null,null,null,null,null,"Total proceeds",null,null,null,null,"Total proceeds"]
[null,null,null,null,null,"Total shares repurchased"]
[null,null,null,null,null,"Diluted shares outstanding",null,null,null,null,"Diluted shares outstanding"]
[]
[]
["x","WACC"]
[]
[null,null,null,null,null,"Current"]
[null,"Percent of Capital"]
[null,"Total debt"]
[null,"Share price",null,null,null,{"$f":"C4","v":51.19}]
[null,"Shares outstanding"]
[null,"Market value of equity"]
[]
[null,"Weight of debt"]
[null,"Weight of equity"]
[]
[null,"Cost of debt"]
[null,"Pre-tax cost of debt"]
[null,"Marginal tax rate"]
[]
[null,"Cost of equity"]
[null,"Risk-free rate"]
[null,"Market risk premium (Rm - Rf)"]
[null,"Beta"]
[null,"Cost of equity"]
[]
[null,"Weighted average cost of capital"]
[]
["x","BOTTOM UP BETA"]
[]
[]
[null,null,null,null,"MV","Book Value","Debt/","Reg","Unlevered",null,"Marginal "]
[null,"Company","Ticker",null,"Equity","Debt","Equity","Beta","Beta",null,"Tax Rate"]
[]
[]
[]
[]
[]
[]
[]
[null,"Average unlevered beta"]
[null,"Average unlevered beta (Full industry)"]
[null,{"$f":"C3&\" Debt/Equity ratio\"","v":"DOCU Debt/Equity ratio"}]
[null,{"$f":"C3&\" Tax Rate\"","v":"DOCU Tax Rate"}]
[null,{"$f":"C3&\" Levered Beta\"","v":"DOCU Levered Beta"}]
[]
["x","SENSITIVITY ANALYSIS"]

{"sheet":"DOCU_Forecast","index":1,"n_rows":47,"n_cols":15,"rows_kept":47,"cut":false,"hidden":false,"merged":[]}
[]
[null,"Key metrics (Annual)"]
[null,null,2019,{"$f":"C3+1","v":2020},{"$f":"D3+1","v":2021},2022,2023,2024,2025,2026,2027,2028]
[null,"Revenue",700969,973971,1453047,2107213,2515915,2746000,{"$f":"H4*(1+I8)","v":2938220},{"$f":"I4*(1+J8)","v":3158586.5},{"$f":"J4*(1+K8)","v":3411273.4200000004},{"$f":"K4*(1+L8)","v":3684175.2936000004}]
[null," Direct (%)",0.85,0.86,0.87,0.88,0.87,0.86,0.85499999999999998,{"$f":"I5","v":0.85499999999999998},0.85499999999999998,0.85499999999999998]
[null," Digital (%)",0.15,0.14000000000000001,0.13,0.12,0.13,0.14000000000000001,0.14499999999999999,0.14499999999999999,0.14499999999999999,0.14499999999999999]
[]
[null,"Revenue growth",null,null,null,null,null,{"$f":"H4/G4-1","v":9.1451817728341434E-2},7.0000000000000007E-2,7.4999999999999997E-2,0.08,0.08]
[]
[null," Subscription Revenue",663657,918463,1381397,2037272,2442177,2670000,{"$f":"I4*I11","v":2864764.5},{"$f":"J4*J11","v":3079621.8374999999},{"$f":"K4*K11","v":3325991.5845000003},{"$f":"L4*L11","v":3592070.9112600004}]
[null," % of revenue",{"$f":"C10/C4","v":0.94677082724057693},{"$f":"D10/D4","v":0.94300857007036143},0.9506898262754061,0.96680876589125064,0.97069137868330213,0.97499999999999998,0.97499999999999998,0.97499999999999998,0.97499999999999998,0.97499999999999998]
[null," % growth",null,null,null,null,null,{"$f":"H10/G10-1","v":9.3286850216016237E-2},{"$f":"I10/H10-1","v":7.2945505617977524E-2},{"$f":"J10/I10-1","v":7.4999999999999956E-2},{"$f":"K10/J10-1","v":8.0000000000000071E-2},{"$f":"L10/K10-1","v":8.0000000000000071E-2}]
[null,"Professional Revenue ",null,null,null,null,{"$f":"G4-G10","v":73738},76000,73455.5,78964.662500000093,85281.835500000045,92104.382340000011]
[null," % growth",null,null,null,null,null,{"$f":"H13/G13-1","v":3.0676177818763639E-2},{"$f":"I13/H13-1","v":-3.3480263157894763E-2},{"$f":"J13/I13-1","v":7.5000000000001288E-2},{"$f":"K13/J13-1","v":7.9999999999999183E-2},{"$f":"L13/K13-1","v":7.9999999999999627E-2}]
[]
[null,"Customers (in thousands)",477,589,892,1170,1360,{"$f":"G16*(1+H17)","v":1536.8},{"$f":"H16*(1+I17)","v":1713.5319999999999},{"$f":"I16*(1+J17)","v":1867.7498800000001},{"$f":"J16*(1+K17)","v":2017.1698704000003},{"$f":"K16*(1+L17)","v":2158.3717613280005}]
[null,"% growth",null,{"$f":"D16/C16-1","v":0.23480083857442358},{"$f":"E16/D16-1","v":0.51443123938879465},{"$f":"F16/E16-1","v":0.31165919282511201},{"$f":"G16/F16-1","v":0.16239316239316248},0.13,0.115,0.09,0.08,7.0000000000000007E-2]
[null," Enterprise",56,75,125,170,211,{"$f":"G18*(1+H19)","v":242.64999999999998},{"$f":"H18*(1+I19)","v":274.19449999999995},{"$f":"I18*(1+J19)","v":301.61394999999999},{"$f":"J18*(1+K19)","v":327.25113575},{"$f":"K18*(1+L19)","v":351.79497093124996}]
[null,"  % growth",null,{"$f":"D18/C18-1","v":0.33928571428571419},{"$f":"E18/D18-1","v":0.66666666666666674},{"$f":"F18/E18-1","v":0.3600000000000001},{"$f":"G18/F18-1","v":0.24117647058823533},0.15,0.13,0.1,8.5000000000000006E-2,7.4999999999999997E-2]
[null," Small ",{"$f":"C16-C18","v":421},514,767,1000,1149,1294.1500000000001,1439.3375000000001,1566.1359300000001,1689.9187346500003,1806.5767903967505]
[null,"  % growth",null,{"$f":"D20/C20-1","v":0.2209026128266034},0.49221789883268485,0.30378096479791394,0.14900000000000002,0.12632724107919935,0.11218753622068545,8.8094995093228601E-2,7.9037076079341295E-2,6.9031754814477209E-2]
[]
[null,"Large (>300k)",310,437,599,852,1080,{"$f":"G23*(1+H24)","v":1069.2},{"$f":"H23*(1+I24)","v":1101.2760000000001},{"$f":"I23*(1+J24)","v":1156.3398000000002},{"$f":"J23*(1+K24)","v":1214.1567900000002},{"$f":"K23*(1+L24)","v":1274.8646295000003}]
[null,"% growth",null,{"$f":"D23/C23-1","v":0.4096774193548387},{"$f":"E23/D23-1","v":0.37070938215102966},{"$f":"F23/E23-1","v":0.42237061769616036},{"$f":"G23/F23-1","v":0.26760563380281699},-0.01,0.03,0.05,0.05,0.05]
[]
[null,"Enterprise/Direct ARPC",{"$f":"(C4*C5)/C18","v":10639.708035714286},11168.200799999999,10113.207119999999,10907.926117647059,10373.677962085307,9732.3717288275311,9162.0295082505327,8953.8015648811997,8912.5398065176942,8953.9934800363808]
[null,"Digital ARPC",{"$f":"(C4*C6)/C20","v":249.75142517814726},265.28392996108948,246.27915254237291,252.86555999999999,284.65530896431682,297.05984623111698,295.99861047183163,{"$f":"(J4*J6)/J20","v":292.43632926549355},{"$f":"(K4*K6)/K20","v":292.69729706999431},{"$f":"(L4*L6)/L20","v":295.70036569255427}]
[]
[]
[]
[null,"S&M",539606,591379,798625,1076527,1242711,{"$f":"H4*H32","v":1235700},{"$f":"I4*I32","v":1248743.5},{"$f":"J4*J32","v":1263434.6000000001},{"$f":"K4*K32","v":1279227.5325000002},{"$f":"L4*L32","v":1289461.3527600002}]
[null,"S&M margin",{"$f":"C31/C4","v":0.76980009101686375},{"$f":"D31/D4","v":0.6071833760964136},{"$f":"E31/E4","v":0.54962090008100217},{"$f":"F31/F4","v":0.51087716334324063},{"$f":"G31/G4","v":0.49393997809941909},0.45,0.42499999999999999,0.4,0.375,0.35]
[null,"CAC (all)",null,{"$f":"D31/(D16-C16)","v":5280.1696428571431},{"$f":"E31/(E16-D16)","v":2635.7260726072609},3872.3992805755397,6540.5842105263155,6989.2533936651598,7065.746440938824,8192.5299452955715,{"$f":"K31/(K16-J16)","v":8561.2877438653522},{"$f":"L31/(L16-K16)","v":9132.040260123038}]
[null,"CAC (enterprise)",null,{"$f":"D31*D5/(D18-C18)","v":26767.681052631578},13896.075000000001,21052.083555555557,26369.721219512197,33576.682464455,33846.651317979391,39396.726885477226,42662.230985610411,{"$f":"L31*L5/(L18-K18)","v":44919.200624849247}]
[null,"CAC (small)",null,{"$f":"D31*D6/(D20-C20)","v":890.24795698924743},410.36067193675888,554.43450643776816,1084.2444966442952,1191.8566999655523,1247.1308308222126,1444.7972029306666,1498.4956330321752,{"$f":"L31*L6/(L20-K20)","v":1602.7345471631388}]
[]
[null,"International Revenue (%)",null,null,0.2,0.23,0.25]
[]
[]
[null,"Key Metric (Quarterely)"]
[null,null,"FY22","FY22","FY22","FY22","FY23","FY23","FY23","FY23","FY24","FY24","FY24"]
[null,null,"Q1","Q2","Q3","Q4","Q1","Q2","Q3","Q4","Q1","Q2","Q3","Q4low","Q4high"]
[null,"Dollar Net Retention",1.25,1.24,1.21,1.19,1.1399999999999999,1.1000000000000001,1.08,1.07,1.05,1.02,1]
[null,"Billings ($)",527,595,565,670,614,648,659,739,675,711,692,758,768]
[null,"Billings (Y/Y growth)",null,null,null,null,{"$f":"G44/C44-1","v":0.16508538899430736},8.9075630252100746E-2,0.16637168141592928,0.10298507462686568,9.9348534201954442E-2,9.7222222222222321E-2,{"$f":"M44/I44-1","v":5.0075872534142585E-2}]
[null,"Employees",6080,6551,7056,7461,7642,8061,7522,7336,6586,6748,6945,6500]
[null,null,null,{"$f":"D46/C46-1","v":7.746710526315792E-2},{"$f":"E46/D46-1","v":7.7087467562204193E-2},5.7397959183673519E-2,2.4259482643077313E-2,5.4828578906045644E-2,-6.68651532067982E-2,-2.4727466099441653E-2,-0.10223555070883317,2.4597631339204451E-2,2.9193835210432617E-2,-6.4074874010079164E-2]

{"sheet":"DOCU_IS","index":2,"n_rows":59,"n_cols":6,"rows_kept":59,"cut":false,"hidden":false,"merged":[]}
[]
[]
[]
["Powered by Clearbit"]
["DocuSign Inc (NMS: DOCU)"]
[]
["Exchange rate used is that of the Year End reported date "]
[]
[]
["As Reported Annual Income Statement ",{"$f":"YEAR(B11)","v":2023},{"$f":"YEAR(C11)","v":2022},{"$f":"YEAR(D11)","v":2021},{"$f":"YEAR(E11)","v":2020},{"$f":"YEAR(F11)","v":2019}]
["Report Date","01/31/2023","01/31/2022","01/31/2021","01/31/2020","01/31/2019"]
["Currency","USD","USD","USD","USD","USD"]
["Audit Status","Not Qualified","Not Qualified","Not Qualified","Not Qualified","Not Qualified"]
["Consolidated","Yes","Yes","Yes","Yes","Yes"]
["Scale","Thousands","Thousands","Thousands","Thousands","Thousands"]
["Revenue - subscription",2442177,2037272,1381397,918463,663657]
["Revenue - professional services & other revenue",73738,69941,71650,55508,37312]
["Total revenue",2515915,2107213,1453047,973971,700969]
["Cost of revenue - subscription",426077,343661,259992,163931,117764]
["Cost of revenue - professional services & other cost of revenue",110011,122790,104066,79303,74657]
["Total cost of revenue",536088,466451,364058,243234,192421]
["Gross profit",1979827,1640762,1088989,730737,508548]
["Sales & marketing expense",1242711,1076527,798625,591379,539606]
["Research & development expense",480584,393362,271522,185552,185968]
["General & administrative expense",316228,232757,192697,147315,209297]
["Restructuring & other related charges",28335,"-","-","-","-"]
["Total operating expenses",2067858,1702646,1262844,924246,934871]
["Income (loss) from operations",-88031,-61884,-173855,-193509,-426323]
["Interest expense",6389,6443,30799,29254,10844]
["Gain (loss) on extinguishment of debt","-","-",-33752,"-","-"]
["Interest income & other income (expense), net",4539,1413,8914,19207,8959]
["Income before income taxes - U.S.",19673,-93356,-240175,-228476,-460627]
["Income before income taxes - international",-109554,26442,10683,24920,32419]
["Income (loss) before provision for (benefit from) income taxes",-89881,-66914,-229492,-203556,-428208]
["Current federal income taxes",-464,-931,-35,"-","-"]
["Current state income taxes",1666,-108,269,239,413]
["Current foreign income taxes",4674,3407,15951,3277,2838]
["Current income taxes",5876,2368,16185,3516,3251]
["Deferred federal income taxes",21,213,-243,"-",-7083]
["Deferred state income taxes",-21,184,5,-43,-2]
["Deferred foreign income taxes",1697,297,-2172,1330,2084]
["Deferred income taxes",1697,694,-2410,1287,-5001]
["Provision for (benefit from) income taxes",7573,3062,13775,4803,-1750]
["Net income (loss)",-97454,-69976,-243267,-208359,-426458]
["Less: preferred stock accretion","-","-","-","-",353]
["Net income (loss) attributable to common stockholders",-97454,-69976,-243267,-208359,-426811]
["Weighted average shares outstanding - basic",200903,196675,185760,176704,135163]
["Weighted average shares outstanding - diluted",200903,196675,185760,176704,135163]
["Year end shares outstanding",201904,198834,192807,181254,169303]
["Net earnings (loss) per share - basic",-0.49,-0.36,-1.31,-1.18,-3.16]
["Net earnings (loss) per share - diluted",-0.49,-0.36,-1.31,-1.18,-3.16]
["Total number of employees",7336,7461,5630,3909,3023]
["Number of common stockholders",78,73,104,115,248]
["Foreign currency translation adjustments",-15336,-7935,7468,"-","-"]
[]
[]
["For Model"]
["Depreciation and amortization"]
["Capex"]

{"sheet":"DOCU_BS","index":3,"n_rows":67,"n_cols":6,"rows_kept":67,"cut":false,"hidden":false,"merged":[]}
[]
[]
[]
["Powered by Clearbit"]
["DocuSign Inc (NMS: DOCU)"]
[]
["Exchange rate used is that of the Year End reported date "]
[]
[]
["As Reported Annual Balance Sheet ",{"$f":"YEAR(B11)","v":2023},{"$f":"YEAR(C11)","v":2022},{"$f":"YEAR(D11)","v":2021},{"$f":"YEAR(E11)","v":2020},{"$f":"YEAR(F11)","v":2019}]
["Report Date","01/31/2023","01/31/2022","01/31/2021","01/31/2020","01/31/2019"]
["Currency","USD","USD","USD","USD","USD"]
["Audit Status","Not Qualified","Not Qualified","Not Qualified","Not Qualified","Not Qualified"]
["Consolidated","Yes","Yes","Yes","Yes","Yes"]
["Scale","Thousands","Thousands","Thousands","Thousands","Thousands"]
["Cash & cash equivalents",721895,509059,566055,241203,517811]
["Investments",309771,293763,207450,414939,251203]
["Restricted cash","-","-","-",280,367]
["Accounts receivable, gross",522925,446757,328932,240841,175148]
["Allowance for doubtful accounts",6011,5807,5362,3000,600]
["Accounts receivable, net",516914,440950,323570,237841,174548]
["Contract assets - current",12437,12588,16883,12502,10616]
["Prepaid expenses","-","-","-",24429,18415]
["Other current assets","-","-","-",12696,11561]
["Prepaid expenses & other current assets",69987,63236,48390,37125,29976]
["Total current assets",1631004,1319596,1162348,943890,984521]
["Investments - noncurrent",186049,94938,92717,239729,164220]
["Computer & network equipment",138869,127799,102163,66937,55233]
["Software, including capitalized software development costs",114524,82537,56858,33373,27959]
["Furniture & office equipment",20897,20939,21682,16752,9511]
["Leasehold improvements",73415,79811,79892,59564,41464]
["Total property & equipment, gross",347705,311086,260595,176626,134167]
["Less: accumulated depreciation",210781,170261,121029,81228,66479]
["Work in progress",62968,43839,25473,32895,8144]
["Property & equipment, net",199892,184664,165039,128293,75832]
["Operating lease right-of-use assets",141493,126021,159352,149833,"-"]
["Goodwill",353619,355058,350151,194882,195225]
["Intangible assets, net",70280,98816,121828,56500,74203]
["Deferred contract acquisition costs - noncurrent",350899,311835,260130,153333,112583]
["Other assets - noncurrent",79484,50337,24942,24678,8833]
["Total assets",3012720,2541265,2336507,1891138,1615417]
["Accounts payable",24393,52804,37367,28144,19590]
["Accrued expenses","-","-","-","-",21755]
["Deferred rent-current","-","-","-","-",2452]
["Accrued expenses","-","-","-",39350,"-"]
["Other current liabilities","-","-","-",14994,"-"]
["Accrued expenses & other current liabilities",100987,91377,66566,54344,"-"]
["Accrued compensation",163133,160163,156158,83189,77553]
["Convertible senior notes - current",722887,null,20469]
["Contract liabilities-current",1172867,1029891,779642,507560,381060]
["Operating lease liabilities-current",24055,37404,32971,20728]
["Other liabilities - current","-","-","-","-",13903]
["Total current liabilities",2208322,1371639,1093173,693965,516313]
["Convertible senior notes, net - noncurrent","-",718487,693219,465321,438932]
["Contract liabilities - noncurrent",16925,16725,16492,11478,7712]
["Operating lease liabilities-noncurrent",141348,126340,165704,162432,"-"]
["Deferred rent - noncurrent","-","-","-","-",24195]
["Deferred tax liability - noncurrent",10723,9316,6464,4920,4207]
["Other liabilities - noncurrent",18115,23255,32328,6695,9696]
["Total liabilities",2395433,2265762,2007380,1344811,1001055]
["Convertible senior notes","-","-",3390,"-","-"]
["Common stock",20,20,19,18,17]
["Treasury stock, at cost",1785,1532,1048,"-","-"]
["Additional paid-in capital",2240732,1720013,1702254,1685167,1545088]
["Accumulated other comprehensive income (loss)",-22996,-4809,4964,-1673,-1965]
["Retained earnings (accumulated deficit)",-1598684,-1438189,-1380452,-1137185,-928778]
["Total stockholders' equity (deficit)",617287,275503,325737,546327,614362]

{"sheet":"DOCU_CFS","index":4,"n_rows":66,"n_cols":6,"rows_kept":66,"cut":false,"hidden":false,"merged":[]}
[]
[]
[]
["Powered by Clearbit"]
["DocuSign Inc (NMS: DOCU)"]
[]
["Exchange rate used is that of the Year End reported date "]
[]
[]
["As Reported Annual Cash Flow "]
["Report Date","01/31/2023","01/31/2022","01/31/2021","01/31/2020","01/31/2019"]
["Currency","USD","USD","USD","USD","USD"]
["Audit Status","Not Qualified","Not Qualified","Not Qualified","Not Qualified","Not Qualified"]
["Consolidated","Yes","Yes","Yes","Yes","Yes"]
["Scale","Thousands","Thousands","Thousands","Thousands","Thousands"]
["Net income (loss)",-97454,-69976,-243267,-208359,-426458]
["Depreciation & amortization expense",86255,81913,71090,50182,38027]
["Amortization of deferred contract acquisition & fulfillment costs",185045,144442,99384,69747,42112]
["Amortization of debt discount & transaction costs",4970,5098,28001,26389,9507]
["Loss (gain) on extinguishment of debt","-","-",33752,"-","-"]
["Operating cash flow related to repayments of convertible senior notes","-","-",-75165,"-","-"]
["Non-cash operating lease costs",27501,26819,26728,19435,"-"]
["Stock-based compensation expense",538726,408542,286877,206404,410978]
["Deferred income taxes",1697,1369,-2410,1287,-5001]
["Other adjustments",15723,9871,-210,-1741,800]
["Accounts receivable",-75964,-117380,-73913,-63293,-42571]
["Contract assets","-",4893,1912,-1508,4204]
["Prepaid expenses & other current assets",-5038,-7074,-1155,-3142,-3283]
["Deferred contract acquisition & fulfillment costs",-232315,-207393,-208510,-115723,-80869]
["Other assets",-22319,-16389,-6006,1538,2658]
["Accounts payable",-26440,12148,12128,3849,-7380]
["Accrued expenses & other liabilities",7340,10828,37155,9353,"-"]
["Accrued expenses","-","-","-","-",4214]
["Accrued compensation",-1781,1128,64586,5636,26039]
["Contract liabilities",143177,250482,267750,130266,100874]
["Operating lease liabilities",-42364,-32854,-21773,-14624,"-"]
["Deferred rent","-","-","-","-",1845]
["Other liabilities","-","-","-","-",390]
["Net cash flows from operating activities",506759,506467,296954,115696,76086]
["Cash paid for acquisition, net of acquired cash","-",-6388,-180370,"-",-218779]
["Purchases of marketable securities",-533710,-384128,-164989,-861252,"-"]
["Sales of marketable securities","-",7569,28986,"-","-"]
["Maturities of marketable securities",423917,283184,488538,627309,"-"]
["Purchases of strategic investments",-3750,-1750,-5300,-15500,"-"]
["Purchases of other investments","-","-",-3241,"-",-415132]
["Purchases of property & equipment",-77654,-61396,-82395,-72046,-30413]
["Net cash flows from investing activities",-191197,-162909,81229,-321489,-664324]
["Proceeds from issuance of convertible senior notes, net of initial purchasers' discounts & transaction costs","-","-",677370,"-",560756]
["Purchase of capped calls related to issuance of convertible senior notes","-","-",-31395,"-",-67563]
["Repayments of convertible senior notes",-16,-77906,-384199,"-","-"]
["Repurchases of common stock",-63041,"-","-","-","-"]
["Payment of revolving credit facility costs","-","-",-2453,"-","-"]
["Proceeds from issuance of common stock in initial public offering, net of underwriting commissions","-","-","-","-",529305]
["Payment of tax withholding obligation on RSU settlement","-","-","-",-166504,-215332]
["Payment of tax withholding obligation on restricted stock units settlement & employee stock purchase plan purchase",-84403,-386521,-372463,"-","-"]
["Proceeds from the exercise of stock options",12678,23729,24305,72177,50211]
["Proceeds from employee stock purchase plan",36526,46077,29859,23872,"-"]
["Payment of deferred offering costs","-","-","-","-",-4011]
["Other financing","-","-","-","-",-250]
["Net cash flows from financing activities",-98256,-394621,-58976,-70455,853116]
["Effect of foreign exchange on cash, cash equivalents & restricted cash",-3784,-5594,5646,-447,-4136]
["Net increase (decrease) in cash, cash equivalents & restricted cash",213522,-56657,324853,-276695,260742]
["Cash, cash equivalents & restricted cash at beginning of period",509679,566336,241483,518178,257436]
["Cash, cash equivalents & restricted cash at end of period",723201,509679,566336,241483,518178]
["Cash paid for interest",185,349,78040,2852,204]
["Cash paid for income taxes",10416,6940,3503,1970,3213]

{"sheet":" _Comps","index":5,"n_rows":26,"n_cols":17,"rows_kept":26,"cut":false,"hidden":false,"merged":[]}
[]
[null,{"$f":"DOCU_DCF!C2&\"Valuation with Public Comparables\"","v":"DocuSignValuation with Public Comparables"}]
[null,{"$f":"DOCU_DCF!B8","v":"Fiscal year ends in January USD in thousands except per share data."}]
[null,"Valuation for period ended "]
[null,"Ticker",{"$f":"DOCU_DCF!C3","v":"DOCU"}]
[null,"Valuation Date"]
[null,"Company Name",{"$f":"DOCU_DCF!C2","v":"DocuSign"},null,null,null,null,"Enterprise Value Multiples",null,null,null,null,null,"Equity Value Multiples"]
[null,null,null,null,null,"Market Value","Enterprise",null,null,null,"Forward","5 year growth","BV","Forward","Forward","Price(Market)-","Cash/MS as "]
[null,"Company","Ticker","Share price",null,"of Equity","Value","EV/Sales","EV/EBIT","EV/EBITDA","EPS","rate","Equity","P/E","PEG","to-Book","% of TA"]
[null,{"$f":"DOCU_DCF!C2","v":"DocuSign"},{"$f":"C5","v":"DOCU"},{"$f":"DOCU_DCF!C4","v":51.19}]
[]
[]
[]
[]
[]
[]
[]
[]
[null,null,null,null,null,null,"High"]
[null,null,null,null,null,null,"Mean"]
[null,null,null,null,null,null,"Median"]
[null,null,null,null,null,null,"Low"]
[]
[]
[null,null,null,"Implied price per share","Diluted shares outstanding","Implied Equity Value","Implied Enterprise Value","Range of EV/Sales","Range of EV/EBIT","Range of EV/EBITDA",null,null,null,"Range of Forward P/E","Range of Forward PEG","Range of Price-to-Book","Excess Cash"]
[null,{"$f":"DOCU_DCF!C2","v":"DocuSign"}]

{"sheet":"Option_Value","index":6,"n_rows":30,"n_cols":7,"rows_kept":30,"cut":false,"hidden":false,"merged":[]}
[]
[null,"Valuing Options or Warrants"]
[null,"Enter the current stock price ="]
[null,"Enter the strike price on the option ="]
[null,"Enter the expiration of the option ="]
[null,"Enter the standard deviation in stock prices =",null,null,null,"(volatility)"]
[null,"Enter the annualized dividend yield on stock ="]
[null,"Enter the treasury bond rate ="]
[null,"Enter the number of options outstanding ="]
[null,"Enter the number of shares outstanding ="]
[]
[null,"Circuit Breaker","OFF"]
[]
[null,"Do not input any numbers below this line"]
[null,"VALUING WARRANTS WHEN THERE IS DILUTION"]
[null,"Stock Price=",null,{"$f":"E3","v":0},"# Warrants issued=",null,{"$f":"E9","v":0}]
[null,"Strike Price=",null,{"$f":"E4","v":0},"# Shares outstanding=",null,{"$f":"E10","v":0}]
[null,"Adjusted S =",null,{"$f":"(D16*G17+D29*G16)/(G17+G16)","v":{"$error":"#DIV/0!"}},"T.Bond rate=",null,{"$f":"E8","v":0}]
[null,"Adjusted K =",null,{"$f":"D17","v":0},"Variance=",null,{"$f":"E6^2","v":0}]
[null,"Expiration (in years) =",null,{"$f":"E5","v":0},"Annualized dividend yield=",null,{"$f":"E7","v":0}]
[null,null,null,null,"Div. Adj. interest rate=",null,{"$f":"G18-G20","v":0}]
[]
[null,"d1 = ",{"$f":"(LN(D18/D19)+(G21+(G19/2))*D20)/(((G19)^(0.5))*(D20^0.5))","v":{"$error":"#DIV/0!"}}]
[null,"N (d1) =",{"$f":"NORMSDIST(C23)","v":{"$error":"#DIV/0!"}}]
[]
[null,"d2 = ",{"$f":"C23-((G19^0.5)*(D20^(0.5)))","v":{"$error":"#DIV/0!"}}]
[null,"N (d2) =",{"$f":"NORMSDIST(C26)","v":{"$error":"#DIV/0!"}}]
[]
[null,"Value per option = ",null,{"$f":"IF(C12=\"OFF\",((EXP((0-G20)*D20))*D18*C24-D19*(EXP((0-G18)*D20))*C27),0)","v":{"$error":"#DIV/0!"}}]
[null,"Value of all options outstanding =",null,null,{"$f":"D29*E9","v":{"$error":"#DIV/0!"}}]